BEGIN:VCALENDAR
VERSION:2.0
PRODID:-//Vert - ECPv5.3.2.1//NONSGML v1.0//EN
CALSCALE:GREGORIAN
METHOD:PUBLISH
X-WR-CALNAME:Vert
X-ORIGINAL-URL:https://www.vert78930.fr
X-WR-CALDESC:évènements pour Vert
BEGIN:VTIMEZONE
TZID:Europe/Paris
BEGIN:DAYLIGHT
TZOFFSETFROM:+0100
TZOFFSETTO:+0200
TZNAME:CEST
DTSTART:20240331T010000
END:DAYLIGHT
BEGIN:STANDARD
TZOFFSETFROM:+0200
TZOFFSETTO:+0100
TZNAME:CET
DTSTART:20241027T010000
END:STANDARD
END:VTIMEZONE
BEGIN:VEVENT
DTSTART;TZID=Europe/Paris:20240816T120000
DTEND;TZID=Europe/Paris:20240816T170000
DTSTAMP:20260419T184455
CREATED:20240208T142920Z
LAST-MODIFIED:20240208T142920Z
UID:12277-1723809600-1723827600@www.vert78930.fr
SUMMARY:Ramassage emballages recyclables
DESCRIPTION:
URL:https://www.vert78930.fr/evenements/ramassage-emballages-recyclables-14/
CATEGORIES:Environnement
END:VEVENT
END:VCALENDAR